BEGIN:VCALENDAR
VERSION:2.0
PRODID:-//eventon.com NONSGML v1.0//EN
CALSCALE:GREGORIAN
METHOD:PUBLISH
BEGIN:VEVENT
UID:69ec00da90767
DTSTAMP:20260424T234634Z
DTSTART:20200325
DTEND:20200326
LOCATION:Hesperange (L)
SUMMARY:Tir Rapide - 1
DESCRIPTION:Tir Rapide - 1\nhttps://www.fltas.lu/events/tir-rapide-1-2/
URL:https://www.fltas.lu/events/tir-rapide-1-2/
END:VEVENT
END:VCALENDAR