BEGIN:VCALENDAR
VERSION:2.0
PRODID:-//eventon.com NONSGML v1.0//EN
CALSCALE:GREGORIAN
METHOD:PUBLISH
BEGIN:VEVENT
UID:69ebd9bb9f112
DTSTAMP:20260424T205939Z
DTSTART:20200329
DTEND:20200330
LOCATION:Kayl (L)
SUMMARY:PP1 - 1
DESCRIPTION:PP1 - 1\nhttps://www.fltas.lu/events/pp1-1-7/
URL:https://www.fltas.lu/events/pp1-1-7/
END:VEVENT
END:VCALENDAR