BEGIN:VCALENDAR
VERSION:2.0
PRODID:-//eventon.com NONSGML v1.0//EN
CALSCALE:GREGORIAN
METHOD:PUBLISH
BEGIN:VEVENT
UID:69ebdb7868a89
DTSTAMP:20260424T210704Z
DTSTART:20200401
DTEND:20200402
LOCATION:Kayl (L)
SUMMARY:Standard - 1
DESCRIPTION:Standard - 1\nhttps://www.fltas.lu/events/standard-1-3/
URL:https://www.fltas.lu/events/standard-1-3/
END:VEVENT
END:VCALENDAR