BEGIN:VCALENDAR
VERSION:2.0
PRODID:-//eventon.com NONSGML v1.0//EN
CALSCALE:GREGORIAN
METHOD:PUBLISH
BEGIN:VEVENT
UID:69ebdb8796b2d
DTSTAMP:20260424T210719Z
DTSTART:20200404
DTEND:20200405
LOCATION:Hesperange (L)
SUMMARY:CalFac Hesper 2 - Hesper 1
DESCRIPTION:14:00\nhttps://www.fltas.lu/events/calfac-hesper-2-hesper-1/
URL:https://www.fltas.lu/events/calfac-hesper-2-hesper-1/
END:VEVENT
END:VCALENDAR