BEGIN:VCALENDAR
VERSION:2.0
PRODID:-//eventon.com NONSGML v1.0//EN
CALSCALE:GREGORIAN
METHOD:PUBLISH
BEGIN:VEVENT
UID:69ebdb5551319
DTSTAMP:20260424T210629Z
DTSTART:20200404
DTEND:20200405
LOCATION:Hesperange (L)
SUMMARY:CalFac BROUCH - STASS1
DESCRIPTION:16:00\nhttps://www.fltas.lu/events/calfac-brouch-stass1/
URL:https://www.fltas.lu/events/calfac-brouch-stass1/
END:VEVENT
END:VCALENDAR