BEGIN:VCALENDAR
VERSION:2.0
PRODID:-//eventon.com NONSGML v1.0//EN
CALSCALE:GREGORIAN
METHOD:PUBLISH
BEGIN:VEVENT
UID:69ebc7f249c1c
DTSTAMP:20260424T194346Z
DTSTART:20200404
DTEND:20200405
LOCATION:Volmerange (F)
SUMMARY:CalFac SAS - BLOEBIERG 1
DESCRIPTION:15:00\nhttps://www.fltas.lu/events/calfac-sas-bloebierg-1/
URL:https://www.fltas.lu/events/calfac-sas-bloebierg-1/
END:VEVENT
END:VCALENDAR