BEGIN:VCALENDAR
VERSION:2.0
PRODID:-//eventon.com NONSGML v1.0//EN
CALSCALE:GREGORIAN
METHOD:PUBLISH
BEGIN:VEVENT
UID:69ebd51418201
DTSTAMP:20260424T203948Z
DTSTART:20200404
DTEND:20200405
LOCATION:Kayl (L)
SUMMARY:CalFac KAYL 3 - STASS 2
DESCRIPTION:14:00\nhttps://www.fltas.lu/events/calfac-kayl-3-stass-2/
URL:https://www.fltas.lu/events/calfac-kayl-3-stass-2/
END:VEVENT
END:VCALENDAR