BEGIN:VCALENDAR
VERSION:2.0
PRODID:-//eventon.com NONSGML v1.0//EN
CALSCALE:GREGORIAN
METHOD:PUBLISH
BEGIN:VEVENT
UID:69ebc0f90b403
DTSTAMP:20260424T191401Z
DTSTART:20200404
DTEND:20200405
LOCATION:Kayl (L)
SUMMARY:CalFac KAYL 2 - Echternach
DESCRIPTION:16:00\nhttps://www.fltas.lu/events/calfac-kayl-2-echternach/
URL:https://www.fltas.lu/events/calfac-kayl-2-echternach/
END:VEVENT
END:VCALENDAR