BEGIN:VCALENDAR
VERSION:2.0
PRODID:-//eventon.com NONSGML v1.0//EN
CALSCALE:GREGORIAN
METHOD:PUBLISH
BEGIN:VEVENT
UID:69ebc7f859253
DTSTAMP:20260424T194352Z
DTSTART:20200405
DTEND:20200406
LOCATION:Diekirch (L)
SUMMARY:CalFac ARMEE - BETTEMBOURG
DESCRIPTION:10:00\nhttps://www.fltas.lu/events/calfac-armee-bettembourg-2/
URL:https://www.fltas.lu/events/calfac-armee-bettembourg-2/
END:VEVENT
END:VCALENDAR