BEGIN:VCALENDAR
VERSION:2.0
PRODID:-//eventon.com NONSGML v1.0//EN
CALSCALE:GREGORIAN
METHOD:PUBLISH
BEGIN:VEVENT
UID:69ebbf1514e46
DTSTAMP:20260424T190557Z
DTSTART:20200412
DTEND:20200413
LOCATION:Kayl (L)
SUMMARY:Ouschteréeerschéissen
DESCRIPTION:Ouschteréeerschéissen\nhttps://www.fltas.lu/events/ouschteree
 erscheissen-2/
URL:https://www.fltas.lu/events/ouschtereeerscheissen-2/
END:VEVENT
END:VCALENDAR