BEGIN:VCALENDAR
VERSION:2.0
PRODID:-//eventon.com NONSGML v1.0//EN
CALSCALE:GREGORIAN
METHOD:PUBLISH
BEGIN:VEVENT
UID:69ebbefca7d12
DTSTAMP:20260424T190532Z
DTSTART:20200415
DTEND:20200416
LOCATION:Kayl (L)
SUMMARY:Tir Rapide - 2
DESCRIPTION:Tir Rapide - 2\nhttps://www.fltas.lu/events/tir-rapide-2-2/
URL:https://www.fltas.lu/events/tir-rapide-2-2/
END:VEVENT
END:VCALENDAR