BEGIN:VCALENDAR
VERSION:2.0
PRODID:-//eventon.com NONSGML v1.0//EN
CALSCALE:GREGORIAN
METHOD:PUBLISH
BEGIN:VEVENT
UID:69ebdb55352cc
DTSTAMP:20260424T210629Z
DTSTART:20200418
DTEND:20200419
LOCATION:Kayl (L)
SUMMARY:PP1 - 1
DESCRIPTION:PP1 - 1\nhttps://www.fltas.lu/events/pp1-1-8/
URL:https://www.fltas.lu/events/pp1-1-8/
END:VEVENT
END:VCALENDAR