BEGIN:VCALENDAR
VERSION:2.0
PRODID:-//eventon.com NONSGML v1.0//EN
CALSCALE:GREGORIAN
METHOD:PUBLISH
BEGIN:VEVENT
UID:69ebc09f079a7
DTSTAMP:20260424T191231Z
DTSTART:20200419
DTEND:20200420
LOCATION:Kayl (L)
SUMMARY:PP1 - 2
DESCRIPTION:PP1 - 2\nhttps://www.fltas.lu/events/pp1-2-7/
URL:https://www.fltas.lu/events/pp1-2-7/
END:VEVENT
END:VCALENDAR