BEGIN:VCALENDAR
VERSION:2.0
PRODID:-//eventon.com NONSGML v1.0//EN
CALSCALE:GREGORIAN
METHOD:PUBLISH
BEGIN:VEVENT
UID:69ebd5a9af681
DTSTAMP:20260424T204217Z
DTSTART:20200422
DTEND:20200423
LOCATION:Hesperange (L)
SUMMARY:Pistolet Libre - 1
DESCRIPTION:Pistolet Libre - 1\nhttps://www.fltas.lu/events/pistolet-libre-
 1/
URL:https://www.fltas.lu/events/pistolet-libre-1/
END:VEVENT
END:VCALENDAR