BEGIN:VCALENDAR
VERSION:2.0
PRODID:-//eventon.com NONSGML v1.0//EN
CALSCALE:GREGORIAN
METHOD:PUBLISH
BEGIN:VEVENT
UID:69ebc7f1e9a85
DTSTAMP:20260424T194345Z
DTSTART:20200425
DTEND:20200426
LOCATION:Schifflange (L)
SUMMARY:GROSCAL - 2
DESCRIPTION:GROSCAL - 2\nhttps://www.fltas.lu/events/groscal-2/
URL:https://www.fltas.lu/events/groscal-2/
END:VEVENT
END:VCALENDAR