BEGIN:VCALENDAR
VERSION:2.0
PRODID:-//eventon.com NONSGML v1.0//EN
CALSCALE:GREGORIAN
METHOD:PUBLISH
BEGIN:VEVENT
UID:69ebda17b7126
DTSTAMP:20260424T210111Z
DTSTART:20200426
DTEND:20200427
LOCATION:Kayl (L)
SUMMARY:Feu Central - 2
DESCRIPTION:Feu Central - 2\nhttps://www.fltas.lu/events/feu-central-2-3/
URL:https://www.fltas.lu/events/feu-central-2-3/
END:VEVENT
END:VCALENDAR