BEGIN:VCALENDAR
VERSION:2.0
PRODID:-//eventon.com NONSGML v1.0//EN
CALSCALE:GREGORIAN
METHOD:PUBLISH
BEGIN:VEVENT
UID:69ebeddbc5405
DTSTAMP:20260424T222531Z
DTSTART:20200429
DTEND:20200430
LOCATION:Hesperange (L)
SUMMARY:Standard - 2
DESCRIPTION:Standard - 2\nhttps://www.fltas.lu/events/standard-2-3/
URL:https://www.fltas.lu/events/standard-2-3/
END:VEVENT
END:VCALENDAR