BEGIN:VCALENDAR
VERSION:2.0
PRODID:-//eventon.com NONSGML v1.0//EN
CALSCALE:GREGORIAN
METHOD:PUBLISH
BEGIN:VEVENT
UID:69ec017f9c344
DTSTAMP:20260424T234919Z
DTSTART:20200502
DTEND:20200503
LOCATION:Schifflange (L)
SUMMARY:CalFac STASS1 - Hesper 2
DESCRIPTION:14:00\nhttps://www.fltas.lu/events/calfac-stass1-hesper-2/
URL:https://www.fltas.lu/events/calfac-stass1-hesper-2/
END:VEVENT
END:VCALENDAR