BEGIN:VCALENDAR
VERSION:2.0
PRODID:-//eventon.com NONSGML v1.0//EN
CALSCALE:GREGORIAN
METHOD:PUBLISH
BEGIN:VEVENT
UID:69ec15c08c023
DTSTAMP:20260425T011544Z
DTSTART:20200502
DTEND:20200503
LOCATION:Kayl (L)
SUMMARY:CalFac Kayl 1 - Brouch
DESCRIPTION:14:00\nhttps://www.fltas.lu/events/calfac-kayl-1-brouch/
URL:https://www.fltas.lu/events/calfac-kayl-1-brouch/
END:VEVENT
END:VCALENDAR