BEGIN:VCALENDAR
VERSION:2.0
PRODID:-//eventon.com NONSGML v1.0//EN
CALSCALE:GREGORIAN
METHOD:PUBLISH
BEGIN:VEVENT
UID:69ec2982f0e80
DTSTAMP:20260425T024002Z
DTSTART:20200502
DTEND:20200503
LOCATION:Volmerange (F)
SUMMARY:CalFac BETTEMBOURG - SAS
DESCRIPTION:15:00\nhttps://www.fltas.lu/events/calfac-bettembourg-sas-2/
URL:https://www.fltas.lu/events/calfac-bettembourg-sas-2/
END:VEVENT
END:VCALENDAR