BEGIN:VCALENDAR
VERSION:2.0
PRODID:-//eventon.com NONSGML v1.0//EN
CALSCALE:GREGORIAN
METHOD:PUBLISH
BEGIN:VEVENT
UID:69ec99044329c
DTSTAMP:20260425T103548Z
DTSTART:20200509
DTEND:20200510
LOCATION:Hesperange (L)
SUMMARY:CalFac Hesper 2 - BROUCH
DESCRIPTION:15:00\nhttps://www.fltas.lu/events/calfac-hesper-2-brouch/
URL:https://www.fltas.lu/events/calfac-hesper-2-brouch/
END:VEVENT
END:VCALENDAR