BEGIN:VCALENDAR
VERSION:2.0
PRODID:-//eventon.com NONSGML v1.0//EN
CALSCALE:GREGORIAN
METHOD:PUBLISH
BEGIN:VEVENT
UID:69ecaefe3048a
DTSTAMP:20260425T120934Z
DTSTART:20200509
DTEND:20200510
LOCATION:Kayl (L)
SUMMARY:CalFac KAYL 1 - Hesper 1
DESCRIPTION:14:00\nhttps://www.fltas.lu/events/calfac-kayl-1-hesper-1/
URL:https://www.fltas.lu/events/calfac-kayl-1-hesper-1/
END:VEVENT
END:VCALENDAR