BEGIN:VCALENDAR
VERSION:2.0
PRODID:-//eventon.com NONSGML v1.0//EN
CALSCALE:GREGORIAN
METHOD:PUBLISH
BEGIN:VEVENT
UID:69ecc2f854560
DTSTAMP:20260425T133448Z
DTSTART:20200509
DTEND:20200510
LOCATION:Bloëbierg (L)
SUMMARY:CalFac BLOEBIERG 1 - BETTEMBOURG
DESCRIPTION:15:00\nhttps://www.fltas.lu/events/calfac-bloebierg-1-bettembou
 rg/
URL:https://www.fltas.lu/events/calfac-bloebierg-1-bettembourg/
END:VEVENT
END:VCALENDAR