BEGIN:VCALENDAR
VERSION:2.0
PRODID:-//eventon.com NONSGML v1.0//EN
CALSCALE:GREGORIAN
METHOD:PUBLISH
BEGIN:VEVENT
UID:69ecdb7e2f717
DTSTAMP:20260425T151926Z
DTSTART:20200509
DTEND:20200510
LOCATION:Echternach (L)
SUMMARY:CalFac Echternach - Kayl 3
DESCRIPTION:15:00\nhttps://www.fltas.lu/events/calfac-echternach-kayl-3/
URL:https://www.fltas.lu/events/calfac-echternach-kayl-3/
END:VEVENT
END:VCALENDAR