BEGIN:VCALENDAR
VERSION:2.0
PRODID:-//eventon.com NONSGML v1.0//EN
CALSCALE:GREGORIAN
METHOD:PUBLISH
BEGIN:VEVENT
UID:69ecf0b960b9a
DTSTAMP:20260425T165001Z
DTSTART:20200509
DTEND:20200510
LOCATION:Kayl (L)
SUMMARY:CalFac DIFFERDANGE - STASS 2
DESCRIPTION:16:00\nhttps://www.fltas.lu/events/calfac-differdange-stass-2/
URL:https://www.fltas.lu/events/calfac-differdange-stass-2/
END:VEVENT
END:VCALENDAR