BEGIN:VCALENDAR
VERSION:2.0
PRODID:-//eventon.com NONSGML v1.0//EN
CALSCALE:GREGORIAN
METHOD:PUBLISH
BEGIN:VEVENT
UID:69ed0699a21c4
DTSTAMP:20260425T182321Z
DTSTART:20200509
DTEND:20200510
LOCATION:Schifflange (L)
SUMMARY:Tir Glock
DESCRIPTION:Tir Glock\nhttps://www.fltas.lu/events/tir-glock/
URL:https://www.fltas.lu/events/tir-glock/
END:VEVENT
END:VCALENDAR