BEGIN:VCALENDAR
VERSION:2.0
PRODID:-//eventon.com NONSGML v1.0//EN
CALSCALE:GREGORIAN
METHOD:PUBLISH
BEGIN:VEVENT
UID:69ed1cc34ff54
DTSTAMP:20260425T195755Z
DTSTART:20200513
DTEND:20200514
LOCATION:Hesperange (L)
SUMMARY:Standard - 3
DESCRIPTION:Standard - 3\nhttps://www.fltas.lu/events/standard-3-4/
URL:https://www.fltas.lu/events/standard-3-4/
END:VEVENT
END:VCALENDAR