BEGIN:VCALENDAR
VERSION:2.0
PRODID:-//eventon.com NONSGML v1.0//EN
CALSCALE:GREGORIAN
METHOD:PUBLISH
BEGIN:VEVENT
UID:69ed3245b6809
DTSTAMP:20260425T212941Z
DTSTART:20200516
DTEND:20200517
LOCATION:Hesperange (L)
SUMMARY:GROSCAL - 3
DESCRIPTION:GROSCAL - 3\nhttps://www.fltas.lu/events/groscal-3/
URL:https://www.fltas.lu/events/groscal-3/
END:VEVENT
END:VCALENDAR