BEGIN:VCALENDAR
VERSION:2.0
PRODID:-//eventon.com NONSGML v1.0//EN
CALSCALE:GREGORIAN
METHOD:PUBLISH
BEGIN:VEVENT
UID:69ed4734b2e5b
DTSTAMP:20260425T225900Z
DTSTART:20200517
DTEND:20200518
LOCATION:Hesperange (L)
SUMMARY:CalFac Hesper 3 - ARMEE
DESCRIPTION:10:00\nhttps://www.fltas.lu/events/calfac-hesper-3-armee/
URL:https://www.fltas.lu/events/calfac-hesper-3-armee/
END:VEVENT
END:VCALENDAR