BEGIN:VCALENDAR
VERSION:2.0
PRODID:-//eventon.com NONSGML v1.0//EN
CALSCALE:GREGORIAN
METHOD:PUBLISH
BEGIN:VEVENT
UID:69ed5b409098a
DTSTAMP:20260426T002432Z
DTSTART:20200520
DTEND:20200521
LOCATION:Kayl (L)
SUMMARY:Pistolet Libre - 2
DESCRIPTION:Pistolet Libre - 2\nhttps://www.fltas.lu/events/pistolet-libre-
 2/
URL:https://www.fltas.lu/events/pistolet-libre-2/
END:VEVENT
END:VCALENDAR