BEGIN:VCALENDAR
VERSION:2.0
PRODID:-//eventon.com NONSGML v1.0//EN
CALSCALE:GREGORIAN
METHOD:PUBLISH
BEGIN:VEVENT
UID:69ed76c349cdf
DTSTAMP:20260426T022155Z
DTSTART:20200524
DTEND:20200525
LOCATION:Hesperange (L)
SUMMARY:Feu Central - 3
DESCRIPTION:Feu Central - 3\nhttps://www.fltas.lu/events/feu-central-3-3/
URL:https://www.fltas.lu/events/feu-central-3-3/
END:VEVENT
END:VCALENDAR