BEGIN:VCALENDAR
VERSION:2.0
PRODID:-//eventon.com NONSGML v1.0//EN
CALSCALE:GREGORIAN
METHOD:PUBLISH
BEGIN:VEVENT
UID:69ed88d432007
DTSTAMP:20260426T033900Z
DTSTART:20200527
DTEND:20200528
LOCATION:Hesperange (L)
SUMMARY:Standard - 4
DESCRIPTION:Standard - 4\nhttps://www.fltas.lu/events/standard-4-3/
URL:https://www.fltas.lu/events/standard-4-3/
END:VEVENT
END:VCALENDAR