BEGIN:VCALENDAR
VERSION:2.0
PRODID:-//eventon.com NONSGML v1.0//EN
CALSCALE:GREGORIAN
METHOD:PUBLISH
BEGIN:VEVENT
UID:69ed93d461957
DTSTAMP:20260426T042556Z
DTSTART:20201024
DTEND:20201025
LOCATION:Volmerange (F)
SUMMARY:CalFac BETTEMBOURG - BLOEBIERG 1
DESCRIPTION:15:00\nhttps://www.fltas.lu/events/calfac-bettembourg-bloebierg
 -1/
URL:https://www.fltas.lu/events/calfac-bettembourg-bloebierg-1/
END:VEVENT
END:VCALENDAR