BEGIN:VCALENDAR
VERSION:2.0
PRODID:-//eventon.com NONSGML v1.0//EN
CALSCALE:GREGORIAN
METHOD:PUBLISH
BEGIN:VEVENT
UID:69ed7a3f81ffb
DTSTAMP:20260426T023647Z
DTSTART:20201024
DTEND:20201025
LOCATION:Schifflange (L)
SUMMARY:CalFac STASS 2 - DIFFERDANGE
DESCRIPTION:16:00\nhttps://www.fltas.lu/events/calfac-stass-2-differdange/
URL:https://www.fltas.lu/events/calfac-stass-2-differdange/
END:VEVENT
END:VCALENDAR