BEGIN:VCALENDAR
VERSION:2.0
PRODID:-//eventon.com NONSGML v1.0//EN
CALSCALE:GREGORIAN
METHOD:PUBLISH
BEGIN:VEVENT
UID:69ed680c883ff
DTSTAMP:20260426T011908Z
DTSTART:20201024
DTEND:20201025
LOCATION:Kayl (L)
SUMMARY:CalFac Kayl 3 - KAYL 2
DESCRIPTION:15:00\nhttps://www.fltas.lu/events/calfac-kayl-3-kayl-2/
URL:https://www.fltas.lu/events/calfac-kayl-3-kayl-2/
END:VEVENT
END:VCALENDAR