BEGIN:VCALENDAR
VERSION:2.0
PRODID:-//eventon.com NONSGML v1.0//EN
CALSCALE:GREGORIAN
METHOD:PUBLISH
BEGIN:VEVENT
UID:69ed5271f23f7
DTSTAMP:20260425T234657Z
DTSTART:20211112
DTEND:20211113
LOCATION:Bloëbierg (L)
SUMMARY:CNI\,  CNE\,  CFI\,  Pi.Air - 3eme manche challenge "armes à air 2021" pistolet
DESCRIPTION:Organisateur: FLTAS-CTP\nhttps://www.fltas.lu/events/cni-cne-cf
 i-pi-air/
URL:https://www.fltas.lu/events/cni-cne-cfi-pi-air/
END:VEVENT
END:VCALENDAR