BEGIN:VCALENDAR
VERSION:2.0
PRODID:-//eventon.com NONSGML v1.0//EN
CALSCALE:GREGORIAN
METHOD:PUBLISH
BEGIN:VEVENT
UID:69ed3cbf9b18d
DTSTAMP:20260425T221423Z
DTSTART:20211127
DTEND:20211128
LOCATION:Hesper (L)
SUMMARY:CNI\,  CNE\,  CFI\,  Car.Air - 5eme manche challenge "armes à air 2021" carabine
DESCRIPTION:Organisateur: FLTAS-CTC-STH\nhttps://www.fltas.lu/events/cni-cf
 i-car-air/
URL:https://www.fltas.lu/events/cni-cfi-car-air/
END:VEVENT
END:VCALENDAR