BEGIN:VCALENDAR
VERSION:2.0
PRODID:-//eventon.com NONSGML v1.0//EN
CALSCALE:GREGORIAN
METHOD:PUBLISH
BEGIN:VEVENT
UID:69ed2707bfde8
DTSTAMP:20260425T204143Z
DTSTART:20210627
DTEND:20210628
LOCATION:Bloëbierg (L)
SUMMARY:CFI\,  Revolver à percussion
DESCRIPTION:Organisateur: FLTAS-CTP-SCBB\nhttps://www.fltas.lu/events/cfi-r
 evolver-a-percussion-3/
URL:https://www.fltas.lu/events/cfi-revolver-a-percussion-3/
END:VEVENT
END:VCALENDAR