BEGIN:VCALENDAR
VERSION:2.0
PRODID:-//eventon.com NONSGML v1.0//EN
CALSCALE:GREGORIAN
METHOD:PUBLISH
BEGIN:VEVENT
UID:69ed12feca807
DTSTAMP:20260425T191614Z
DTSTART:20210619
DTEND:20210620
LOCATION:Echternach (L)
SUMMARY:CFI\,  Cible/Brocard&Cible mouvante
DESCRIPTION:Organisateur: FLTAS-CTC-STE\nhttps://www.fltas.lu/events/cfi-ci
 ble-brocardcible-mouvante/
URL:https://www.fltas.lu/events/cfi-cible-brocardcible-mouvante/
END:VEVENT
END:VCALENDAR