BEGIN:VCALENDAR
VERSION:2.0
PRODID:-//eventon.com NONSGML v1.0//EN
CALSCALE:GREGORIAN
METHOD:PUBLISH
BEGIN:VEVENT
UID:69ed113a567e8
DTSTAMP:20260425T190842Z
DTSTART:20210626
DTEND:20210627
LOCATION:Bloëbierg (L)
SUMMARY:CNI\,  CFI\,  Pist.cal.fac.
DESCRIPTION:Organisateur: FLTAS-CTP\nhttps://www.fltas.lu/events/cni-cfi-pi
 st-cal-fac-3/
URL:https://www.fltas.lu/events/cni-cfi-pist-cal-fac-3/
END:VEVENT
END:VCALENDAR