BEGIN:VCALENDAR
VERSION:2.0
PRODID:-//eventon.com NONSGML v1.0//EN
CALSCALE:GREGORIAN
METHOD:PUBLISH
BEGIN:VEVENT
UID:69ece82c03db3
DTSTAMP:20260425T161332Z
DTSTART:20210703
DTEND:20210704
LOCATION:
SUMMARY:CNI\,  CNE\,  CFI pi.libre
DESCRIPTION:Organisateur: FLTAS-CTP\nhttps://www.fltas.lu/events/cni-cne-cf
 i-pi-libre-3/
URL:https://www.fltas.lu/events/cni-cne-cfi-pi-libre-3/
END:VEVENT
END:VCALENDAR