BEGIN:VCALENDAR
VERSION:2.0
PRODID:-//eventon.com NONSGML v1.0//EN
CALSCALE:GREGORIAN
METHOD:PUBLISH
BEGIN:VEVENT
UID:69ecca1d26d50
DTSTAMP:20260425T140517Z
DTSTART:20210620
DTEND:20210621
LOCATION:Bloëbierg (L)
SUMMARY:CNI\,  CNE\,  CFI\,  Pist.tir rapide
DESCRIPTION:Organisateur: FLTAS-CTP\nhttps://www.fltas.lu/events/cni-cne-cf
 i-pist-tir-rapide-3/
URL:https://www.fltas.lu/events/cni-cne-cfi-pist-tir-rapide-3/
END:VEVENT
END:VCALENDAR