BEGIN:VCALENDAR
VERSION:2.0
PRODID:-//eventon.com NONSGML v1.0//EN
CALSCALE:GREGORIAN
METHOD:PUBLISH
BEGIN:VEVENT
UID:69ecb5d831d47
DTSTAMP:20260425T123848Z
DTSTART:20210724
DTEND:20210725
LOCATION:Rumelange (L)
SUMMARY:CNI\,  CFI\,  Trap
DESCRIPTION:Organisateur: FLTAS-CTS-STR\nhttps://www.fltas.lu/events/cni-cf
 i-trap/
URL:https://www.fltas.lu/events/cni-cfi-trap/
END:VEVENT
END:VCALENDAR