BEGIN:VCALENDAR
VERSION:2.0
PRODID:-//eventon.com NONSGML v1.0//EN
CALSCALE:GREGORIAN
METHOD:PUBLISH
BEGIN:VEVENT
UID:69eca074dae34
DTSTAMP:20260425T110732Z
DTSTART:20210912
DTEND:20210913
LOCATION:Bloëbierg (L)
SUMMARY:CNI\,  CNE\,  CFI\,  Pist.standard
DESCRIPTION:Organisateur: FLTAS-CTP\nhttps://www.fltas.lu/events/cni-cne-cf
 i-pist-standard-3/
URL:https://www.fltas.lu/events/cni-cne-cfi-pist-standard-3/
END:VEVENT
END:VCALENDAR