BEGIN:VCALENDAR
VERSION:2.0
PRODID:-//eventon.com NONSGML v1.0//EN
CALSCALE:GREGORIAN
METHOD:PUBLISH
BEGIN:VEVENT
UID:69ec3840dd5ff
DTSTAMP:20260425T034256Z
DTSTART:20210926
DTEND:20210927
LOCATION:Echternach (L)
SUMMARY:CNI\,  CNE\,  CFI\,  car.libre 50m\,  3x40
DESCRIPTION:Organisateur: FLTAS-CTC-\nhttps://www.fltas.lu/events/cni-cne-c
 fi-car-libre-50m-3x40/
URL:https://www.fltas.lu/events/cni-cne-cfi-car-libre-50m-3x40/
END:VEVENT
END:VCALENDAR