BEGIN:VCALENDAR
VERSION:2.0
PRODID:-//eventon.com NONSGML v1.0//EN
CALSCALE:GREGORIAN
METHOD:PUBLISH
BEGIN:VEVENT
UID:69ec24615d838
DTSTAMP:20260425T021809Z
DTSTART:20211002
DTEND:20211003
LOCATION:
SUMMARY:CFI\,  US Carbine M1
DESCRIPTION:Organisateur: FLTAS-CTC-\nhttps://www.fltas.lu/events/cfi-us-ca
 rbine-m1/
URL:https://www.fltas.lu/events/cfi-us-carbine-m1/
END:VEVENT
END:VCALENDAR