BEGIN:VCALENDAR
VERSION:2.0
PRODID:-//eventon.com NONSGML v1.0//EN
CALSCALE:GREGORIAN
METHOD:PUBLISH
BEGIN:VEVENT
UID:69ec0db4806d6
DTSTAMP:20260425T004124Z
DTSTART:20211009
DTEND:20211010
LOCATION:
SUMMARY:CFI\,  car.mil.100m
DESCRIPTION:Organisateur: FLTAS-CTC-\nhttps://www.fltas.lu/events/cfi-car-m
 il-100m/
URL:https://www.fltas.lu/events/cfi-car-mil-100m/
END:VEVENT
END:VCALENDAR