BEGIN:VCALENDAR
VERSION:2.0
PRODID:-//eventon.com NONSGML v1.0//EN
CALSCALE:GREGORIAN
METHOD:PUBLISH
BEGIN:VEVENT
UID:69ebf79310682
DTSTAMP:20260424T230659Z
DTSTART:20210904
DTEND:20210905
LOCATION:Kayl (L)
SUMMARY:CFI\,  PP1
DESCRIPTION:CFI\,  PP1\nhttps://www.fltas.lu/events/cfi-pp1-2/
URL:https://www.fltas.lu/events/cfi-pp1-2/
END:VEVENT
END:VCALENDAR