BEGIN:VCALENDAR
VERSION:2.0
PRODID:-//eventon.com NONSGML v1.0//EN
CALSCALE:GREGORIAN
METHOD:PUBLISH
BEGIN:VEVENT
UID:69ebe2c6c046a
DTSTAMP:20260424T213814Z
DTSTART:20211023
DTEND:20211024
LOCATION:
SUMMARY:CFI\,  car.mil.100m\,  3x20
DESCRIPTION:Organisateur: FLTAS-CTC-\nhttps://www.fltas.lu/events/cfi-car-m
 il-100m-3x20/
URL:https://www.fltas.lu/events/cfi-car-mil-100m-3x20/
END:VEVENT
END:VCALENDAR