BEGIN:VCALENDAR
VERSION:2.0
PRODID:-//eventon.com NONSGML v1.0//EN
CALSCALE:GREGORIAN
METHOD:PUBLISH
BEGIN:VEVENT
UID:69ebd95f2a536
DTSTAMP:20260424T205807Z
DTSTART:20210213
DTEND:20210214
LOCATION:Bloëbierg (L)
SUMMARY:1ere manche carabine challenge « armes à air 2021»
DESCRIPTION:Organisateur: ST Armée\nhttps://www.fltas.lu/events/1ere-manch
 e-carabine-challenge-armes-a-air-2021/
URL:https://www.fltas.lu/events/1ere-manche-carabine-challenge-armes-a-air-2021/
END:VEVENT
END:VCALENDAR